BEGIN:VCALENDAR
VERSION:2.0
PRODID:-//Miss D&#039;s Quilts - ECPv6.10.3//NONSGML v1.0//EN
CALSCALE:GREGORIAN
METHOD:PUBLISH
X-WR-CALNAME:Miss D&#039;s Quilts
X-ORIGINAL-URL:https://missdsquilts.com
X-WR-CALDESC:Events for Miss D&#039;s Quilts
REFRESH-INTERVAL;VALUE=DURATION:PT1H
X-Robots-Tag:noindex
X-PUBLISHED-TTL:PT1H
BEGIN:VTIMEZONE
TZID:America/New_York
BEGIN:DAYLIGHT
TZOFFSETFROM:-0500
TZOFFSETTO:-0400
TZNAME:EDT
DTSTART:20260308T070000
END:DAYLIGHT
BEGIN:STANDARD
TZOFFSETFROM:-0400
TZOFFSETTO:-0500
TZNAME:EST
DTSTART:20261101T060000
END:STANDARD
END:VTIMEZONE
BEGIN:VEVENT
DTSTART;TZID=America/New_York:20260306T100000
DTEND;TZID=America/New_York:20260306T160000
DTSTAMP:20260423T061358
CREATED:20260215T142151Z
LAST-MODIFIED:20260215T142151Z
UID:9877-1772791200-1772812800@missdsquilts.com
SUMMARY:Quilting with Iris\, Friday\, March 6\, 2026
DESCRIPTION:March 6th 10-4\nMorning\nLongarm Machine basics\nLongarm Machine Quilting basics will cover everything from loading your quilt\, how to thread the machine\, what thread to use. We will also explore adjusting your top and bobbin tension\,\ntalk about needles and threads to pair up. Last but not least we will explore different stitch modes\, how to use Groovy boards\, Pantographs\, and Rulers\, and learn to adjustable the machine\nsettings and Handles\, so we can quilt with comfort and ease. This class is jam packed with information that will help you with your new free motion endeavor.\nAfternoon\nFree Motion Quilting\nQuilters everywhere LOVE the excitement and fun of free-motion quilting. It’s easier thank you think! Create a flowing design by connecting simple design elements with\ncontinuous lines\, travel across the quilt or filling specific areas. Learn how drawing and muscle memory contribute to beautiful free-motion quilting.\n\nClass is open to all long-arm owners regardless of  machine brand.\nClass times:  10:00 am – 4:00 pm\nLunch:  included in class fee\nFee:  $75.00 \nThis is a great class for new owners\, someone who has stepped away from quilting for bit\, or if you just need a little refresher.  Please bring pen and paper to take notes. \nIn the past we have demonstrated unique projects which would enable you to learn new techniques\, use your software to its fullest and perhaps a make a little money along the way.  So\, for you crafters\, this project meets all those requirements.
URL:https://missdsquilts.com/event/quilting-with-iris-friday-march-6-2026/
LOCATION:Miss D’s Quilt Shop\, 305 St. John’s Ave\,\, Palatka\, FL\, 32177\, United States
CATEGORIES:Quilting
ATTACH;FMTTYPE=image/jpeg:https://missdsquilts.com/wp-content/uploads/2024/05/Amara24_lifestyle_002-1-scaled.jpg
ORGANIZER;CN="Miss D's Quilts":MAILTO:missd@missdsquilts.com
END:VEVENT
END:VCALENDAR